BEGIN:VCALENDAR
PRODID:-//AT Content Types//AT Event//EN
VERSION:2.0
METHOD:PUBLISH
BEGIN:VEVENT
DTSTAMP:20260425T235854Z
CREATED:20151120T100947Z
UID:ATEvent-97cc8ef51b6e71d5a84faa867986d7e7
LAST-MODIFIED:20151120T101329Z
SUMMARY:Egyházmegyei elnökségek megbeszélése\, Bp.\, Puskin u.
DTSTART:20161109T230000Z
DTEND:20161109T230000Z
LOCATION:Bp.\, Puskin u.
CLASS:PUBLIC
END:VEVENT
END:VCALENDAR
