BEGIN:VCALENDAR
PRODID:-//AT Content Types//AT Event//EN
VERSION:1.0
BEGIN:VEVENT
DTSTART:20160706T220000Z
DTEND:20160709T220000Z
DCREATED:20151119T155930Z
UID:ATEvent-e0a202354df9d7314c8b96aa2e770721
SEQUENCE:0
LAST-MODIFIED:20151119T160107Z
SUMMARY:Közép-Európai Keresztény Találkozó\, Budapest
LOCATION:Budapest
PRIORITY:3
TRANSP:0
END:VEVENT
END:VCALENDAR
