BEGIN:VCALENDAR
PRODID:-//AT Content Types//AT Event//EN
VERSION:2.0
METHOD:PUBLISH
BEGIN:VEVENT
DTSTAMP:20260424T231800Z
CREATED:20140314T111141Z
UID:ATEvent-ec2a5581ed5f4490a9ee4fd0a5703ca5
LAST-MODIFIED:20140314T144658Z
SUMMARY:Konfirmáció 2014 adatbekérés határideje\: március 21.
DTSTART:20140313T230000Z
DTEND:20140320T230000Z
CLASS:PUBLIC
END:VEVENT
END:VCALENDAR
