BEGIN:VCALENDAR
PRODID:-//AT Content Types//AT Event//EN
VERSION:1.0
BEGIN:VEVENT
DTSTART:20160626T220000Z
DTEND:20160701T220000Z
DCREATED:20151119T155809Z
UID:ATEvent-e1a64bf53f059d398e275e9f4baf8b61
SEQUENCE:0
LAST-MODIFIED:20151119T155942Z
SUMMARY:Konfirmandus és ifjúsági tábor\, Bonyhád
LOCATION:Bonyhád
PRIORITY:3
TRANSP:0
END:VEVENT
END:VCALENDAR
