BEGIN:VCALENDAR
PRODID:-//AT Content Types//AT Event//EN
VERSION:1.0
BEGIN:VEVENT
DTSTART:20150824T110000Z
DTEND:20150826T120000Z
DCREATED:20150709T104737Z
UID:ATEvent-2ce025eb30947dc2a8d4b9611e60631d
SEQUENCE:0
LAST-MODIFIED:20150709T120841Z
SUMMARY:Munkaévkezdő lelkészkonferencia
LOCATION:Balatonszárszó
PRIORITY:3
TRANSP:0
END:VEVENT
END:VCALENDAR
