BEGIN:VCALENDAR
PRODID:-//AT Content Types//AT Event//EN
VERSION:2.0
METHOD:PUBLISH
BEGIN:VEVENT
DTSTAMP:20260425T042447Z
CREATED:20151120T100752Z
UID:ATEvent-23867eda29791eb49a18e574982c167b
LAST-MODIFIED:20151120T100936Z
SUMMARY:Országos evangélizáció\, Deák tér
DTSTART:20161007T220000Z
DTEND:20161007T220000Z
LOCATION:Bp.\,  Deák tér
CLASS:PUBLIC
END:VEVENT
END:VCALENDAR
