BEGIN:VCALENDAR
PRODID:-//AT Content Types//AT Event//EN
VERSION:1.0
BEGIN:VEVENT
DTSTART:20150917T220000Z
DTEND:20150919T220000Z
DCREATED:20150709T133426Z
UID:ATEvent-ad46e4c03523deff7d9ec586a432c398
SEQUENCE:0
LAST-MODIFIED:20150709T133508Z
SUMMARY:Papnétalálkozó
LOCATION:Balatonszárszó
PRIORITY:3
TRANSP:0
END:VEVENT
END:VCALENDAR
