BEGIN:VCALENDAR
PRODID:-//AT Content Types//AT Event//EN
VERSION:1.0
BEGIN:VEVENT
DTSTART:20150929T220000Z
DTEND:20151003T220000Z
DCREATED:20150709T133827Z
UID:ATEvent-d5cc7ac9270869bdd8a29853feceeedf
SEQUENCE:0
LAST-MODIFIED:20150709T134102Z
SUMMARY:Svéd-magyar lelkészkonferencia
LOCATION:Svédország\, Vadstena
PRIORITY:3
TRANSP:0
END:VEVENT
END:VCALENDAR
