BEGIN:VCALENDAR
PRODID:-//AT Content Types//AT Event//EN
VERSION:2.0
METHOD:PUBLISH
BEGIN:VEVENT
DTSTAMP:20260424T080220Z
CREATED:20151119T144951Z
UID:ATEvent-bc1499215b18504992ced4823268980c
LAST-MODIFIED:20151119T145216Z
SUMMARY:Szélrózsa előtalálkozó\, Aszód
DTSTART:20160219T230000Z
DTEND:20160219T230000Z
CLASS:PUBLIC
END:VEVENT
END:VCALENDAR
