BEGIN:VCALENDAR
PRODID:-//AT Content Types//AT Event//EN
VERSION:2.0
METHOD:PUBLISH
BEGIN:VEVENT
DTSTAMP:20260425T120847Z
CREATED:20090916T143020Z
UID:ATEvent-d736b5a79cfaf811b141e55b139d0010
LAST-MODIFIED:20210528T083120Z
SUMMARY:Áldozati vasárnap az Ótemplomért
DTSTART:20090920T080000Z
DTEND:20090920T100000Z
DESCRIPTION:
LOCATION:Szarvas
CLASS:PUBLIC
END:VEVENT
END:VCALENDAR
