BEGIN:VCALENDAR
PRODID:-//AT Content Types//AT Event//EN
VERSION:1.0
BEGIN:VEVENT
DTSTART:20091113T090000Z
DTEND:20091113T130000Z
DCREATED:20090904T093126Z
UID:ATEvent-7bbfb0fe0220e0c28025070818c5f4e5
SEQUENCE:0
LAST-MODIFIED:20210528T083119Z
SUMMARY:Egyházkerületi közgyűlés
LOCATION:Budapest - Cinkota
PRIORITY:3
TRANSP:0
END:VEVENT
END:VCALENDAR
