BEGIN:VCALENDAR
PRODID:-//AT Content Types//AT Event//EN
VERSION:1.0
BEGIN:VEVENT
DTSTART:20090303T083000Z
DTEND:20090303T130000Z
DCREATED:20090324T122430Z
UID:ATEvent-5cbfe3f83a18f217b97f716087b41e42
SEQUENCE:0
LAST-MODIFIED:20210528T083108Z
SUMMARY:Esperesi Konferencia
LOCATION:Székesfehérvár
PRIORITY:3
TRANSP:0
END:VEVENT
END:VCALENDAR
