BEGIN:VCALENDAR
PRODID:-//AT Content Types//AT Event//EN
VERSION:1.0
BEGIN:VEVENT
DTSTART:20110318T140000Z
DTEND:20110319T170000Z
DCREATED:20110214T101545Z
UID:ATEvent-c90c30e47aa1f9517fc5c0999d5e324c
SEQUENCE:0
LAST-MODIFIED:20210528T083134Z
SUMMARY:„Erőnk és reménységünk" - Felügyelői konferencia Piliscsabán
DESCRIPTION:Harmadik alkalommal kerül sor a Déli Egyházkerület fel
 ügyelői konferenciájára. Az esemény helyszíne a Piliscsabai Bét
 hel Evangélikus Missziói Otthon lesz. A konferencia anyagát a felü
 gyelők postai úton kapják meg.
LOCATION:Piliscsaba Széchenyi u. 8-12.
PRIORITY:3
TRANSP:0
END:VEVENT
END:VCALENDAR
