BEGIN:VCALENDAR
PRODID:-//AT Content Types//AT Event//EN
VERSION:2.0
METHOD:PUBLISH
BEGIN:VEVENT
DTSTAMP:20260425T131905Z
CREATED:20090916T143435Z
UID:ATEvent-cf54733966f41863d09f6526faa01ea0
LAST-MODIFIED:20210528T083121Z
SUMMARY:Hálaadó istentisztelet Csabacsüdön
DTSTART:20090920T130000Z
DTEND:20090920T150000Z
LOCATION:Csabacsüd
CLASS:PUBLIC
END:VEVENT
END:VCALENDAR
