BEGIN:VCALENDAR
PRODID:-//AT Content Types//AT Event//EN
VERSION:1.0
BEGIN:VEVENT
DTSTART:20100723T160000Z
DTEND:20100723T200000Z
DCREATED:20100628T111637Z
UID:ATEvent-664c5ea5893476baecfdd3d81efe7bb8
SEQUENCE:0
LAST-MODIFIED:20210528T083126Z
SUMMARY:Harmadszor is éjszakai „ügyelet” Pusztaföldváron
DESCRIPTION:Szélesre\ntárják templomuk ajtaját a pusztaföldvári 
 evangélikusok\, akik\n2008 és 2009 után ismét megrendezik a Nyitot
 t templom éjszakáját.\nAz este központi témája ezúttal a „Leg
 yetek élő\nkövekké!”-felszólítás lesz\, ezt azonban nem szok
 sos módon\ndolgozzák fel.
PRIORITY:3
TRANSP:0
END:VEVENT
END:VCALENDAR
