BEGIN:VCALENDAR
PRODID:-//AT Content Types//AT Event//EN
VERSION:2.0
METHOD:PUBLISH
BEGIN:VEVENT
DTSTAMP:20260425T003356Z
CREATED:20100204T132551Z
UID:ATEvent-107aa349455246ca0f5cf6859d43fc95
LAST-MODIFIED:20210528T083124Z
SUMMARY:Szélrózsa – országos evangélikus ifjúsági találkozó
DTSTART:20100713T220000Z
DTEND:20100717T220000Z
LOCATION:Szarvas
CLASS:PUBLIC
END:VEVENT
END:VCALENDAR
