BEGIN:VCALENDAR
PRODID:-//AT Content Types//AT Event//EN
VERSION:2.0
METHOD:PUBLISH
BEGIN:VEVENT
DTSTAMP:20260424T203602Z
CREATED:20140128T162310Z
UID:ATEvent-db61a3122ac28b30c0c96cc312714a33
LAST-MODIFIED:20210528T083233Z
SUMMARY:Parókusi alkalmassági vizsgálat
DTSTART:20140527T220000Z
DTEND:20140527T220000Z
DESCRIPTION:A Déli Evangélikus Egyházkerület Püspöki Hivatala é
 rtesíti a hatéves képzésben részesült\, 2012 augusztusa előtt o
 rdinált beosztott lelkészeket\, hogy 2014. május 28-án\, szerdán 
 parókusi alkalmassági vizsgálatra kerül sor. Jelentkezni írásban
  lehet a püspöki hivatalban 2014. február 28-ig. Az írásbeli fela
 datokat és a szóbeli tételeket a jelentkezőknek postai úton jutta
 tjuk el.
LOCATION:1088-Budapest\, Puskin u. 12.
CLASS:PUBLIC
END:VEVENT
END:VCALENDAR
